BEGIN:VCALENDAR
VERSION:2.0
PRODID:-//Plone.org//NONSGML plone.app.event//EN
X-WR-TIMEZONE:Europe/Berlin
BEGIN:VEVENT
SUMMARY:AMO Colloquium by Robert Smit
DTSTART;TZID=Europe/Berlin:20251125T171500
DTEND;TZID=Europe/Berlin:20251125T181500
DTSTAMP:20260423T005409Z
UID:e8e564db7bdb4de8abc15563746ab3bb-de@www.iap.uni-bonn.de
CATEGORIES:indico_72
CREATED:20250625T115721Z
DESCRIPTION:"Stable single emitters at the interface for quantum sensing a
 nd beyond" - Für weitere Angaben folgen Sie dem Link in der Kategorie "We
 itere Informationen". For further details\, follow the link in the "Additi
 onal Information" category.
LAST-MODIFIED:20251113T074629Z
URL:https://www.iap.uni-bonn.de/de/assets/amo-colloquium/amo-colloquium-by
 -michel-orrit
END:VEVENT
BEGIN:VTIMEZONE
TZID:Europe/Berlin
X-LIC-LOCATION:Europe/Berlin
BEGIN:STANDARD
DTSTART:20251026T020000
TZNAME:CET
TZOFFSETFROM:+0200
TZOFFSETTO:+0100
END:STANDARD
END:VTIMEZONE
END:VCALENDAR
